BEGIN:VCALENDAR
VERSION:2.0
PRODID:-//FOOD BANK ALBANIA - ECPv6.15.20//NONSGML v1.0//EN
CALSCALE:GREGORIAN
METHOD:PUBLISH
X-WR-CALNAME:FOOD BANK ALBANIA
X-ORIGINAL-URL:https://new.foodbank.al
X-WR-CALDESC:Events for FOOD BANK ALBANIA
REFRESH-INTERVAL;VALUE=DURATION:PT1H
X-Robots-Tag:noindex
X-PUBLISHED-TTL:PT1H
BEGIN:VTIMEZONE
TZID:Europe/Tirane
BEGIN:DAYLIGHT
TZOFFSETFROM:+0100
TZOFFSETTO:+0200
TZNAME:CEST
DTSTART:20240331T010000
END:DAYLIGHT
BEGIN:STANDARD
TZOFFSETFROM:+0200
TZOFFSETTO:+0100
TZNAME:CET
DTSTART:20241027T010000
END:STANDARD
BEGIN:DAYLIGHT
TZOFFSETFROM:+0100
TZOFFSETTO:+0200
TZNAME:CEST
DTSTART:20250330T010000
END:DAYLIGHT
BEGIN:STANDARD
TZOFFSETFROM:+0200
TZOFFSETTO:+0100
TZNAME:CET
DTSTART:20251026T010000
END:STANDARD
BEGIN:DAYLIGHT
TZOFFSETFROM:+0100
TZOFFSETTO:+0200
TZNAME:CEST
DTSTART:20260329T010000
END:DAYLIGHT
BEGIN:STANDARD
TZOFFSETFROM:+0200
TZOFFSETTO:+0100
TZNAME:CET
DTSTART:20261025T010000
END:STANDARD
END:VTIMEZONE
BEGIN:VEVENT
DTSTART;TZID=Europe/Tirane:20250927T180000
DTEND;TZID=Europe/Tirane:20250928T200000
DTSTAMP:20260421T164106
CREATED:20250922T121711Z
LAST-MODIFIED:20250922T121711Z
UID:11163-1758996000-1759089600@new.foodbank.al
SUMMARY:“Shporta e Solidaritetit” - Dhuroni Artikuj Ushqimore
DESCRIPTION:Në kuadër të Ditës Ndërkombëtare të Ndërgjegjësimit kundër Humbjeve dhe Mbetjeve Ushqimore (29 Shtator)\, Food Bank Albania\, në bashkëpunim me CONAD Albania\, organizon një aktivitet ndërgjegjësues dhe solidariteti. \n Datat: 27 – 28 Shtator\n Ora: 18:00 – 20:00\n ju ftojmë të bashkoheni ne fushaten “Shporta e Solidaritetit”duke dhuruar ushqime për të mbështetur familjet në nevojë dhe për të promovuar përdorimin e qëndrueshëm të ushqimit. \nBëhu pjesë e Fushatës sonë të Dhurimit të Ushqimeve – APLIKO TANI
URL:https://new.foodbank.al/event/shporta-e-solidaritetit-dhuroni-artikuj-ushqimore/
LOCATION:CONAD Albania\, Tiranë\, Albania
CATEGORIES:Bamirësi,Dhuro Ushqim
ATTACH;FMTTYPE=image/jpeg:https://new.foodbank.al/wp-content/uploads/2025/07/header3.jpeg
ORGANIZER;CN="Food Bank Albania":MAILTO:support@philantrop.com
END:VEVENT
END:VCALENDAR