BEGIN:VCALENDAR
VERSION:2.0
PRODID:-//FOOD BANK ALBANIA - ECPv6.15.20//NONSGML v1.0//EN
CALSCALE:GREGORIAN
METHOD:PUBLISH
X-ORIGINAL-URL:https://new.foodbank.al/en
X-WR-CALDESC:Events for FOOD BANK ALBANIA
REFRESH-INTERVAL;VALUE=DURATION:PT1H
X-Robots-Tag:noindex
X-PUBLISHED-TTL:PT1H
BEGIN:VTIMEZONE
TZID:Europe/Tirane
BEGIN:DAYLIGHT
TZOFFSETFROM:+0100
TZOFFSETTO:+0200
TZNAME:CEST
DTSTART:20240331T010000
END:DAYLIGHT
BEGIN:STANDARD
TZOFFSETFROM:+0200
TZOFFSETTO:+0100
TZNAME:CET
DTSTART:20241027T010000
END:STANDARD
BEGIN:DAYLIGHT
TZOFFSETFROM:+0100
TZOFFSETTO:+0200
TZNAME:CEST
DTSTART:20250330T010000
END:DAYLIGHT
BEGIN:STANDARD
TZOFFSETFROM:+0200
TZOFFSETTO:+0100
TZNAME:CET
DTSTART:20251026T010000
END:STANDARD
BEGIN:DAYLIGHT
TZOFFSETFROM:+0100
TZOFFSETTO:+0200
TZNAME:CEST
DTSTART:20260329T010000
END:DAYLIGHT
BEGIN:STANDARD
TZOFFSETFROM:+0200
TZOFFSETTO:+0100
TZNAME:CET
DTSTART:20261025T010000
END:STANDARD
END:VTIMEZONE
BEGIN:VEVENT
DTSTART;TZID=Europe/Tirane:20251018T100000
DTEND;TZID=Europe/Tirane:20251018T170000
DTSTAMP:20260421T154232
CREATED:20250930T113402Z
LAST-MODIFIED:20250930T114037Z
UID:11179-1760781600-1760806800@new.foodbank.al
SUMMARY:Maratona "Solidariteti për Ushqim" - 18 Tetor 2025
DESCRIPTION:Rikthehet maratona “Solidariteti për Ushqim” | 18 Tetor 2025 ‍♀‍‍♂‍ \nFood Bank Albania në bashkëpunim me Federata Shqiptare e Sportit Universitar \, organizojnë edicionin e dytë të maratonës “Solidariteti për Ushqim” me studentët nga universitetet shqiptare\, që bashkojnë forcat për: \n✅ Një jetë më të shëndetshme\n✅ Më pak mbetje ushqimore\n✅ Më shumë solidaritet social \nPjesëmarrja në maratonë është falas!\nBluza me mesazhe ndërgjegjësuese \nAktivizëm studentor dhe komunitar \nBëhu pjesë e kësaj nisme që frymëzon ndryshime të qëndrueshme në shoqëri! APLIKO KËTU \n  \nLiqeni Artificial i Tiranës | 18 Tetor 2025 |⏰ Nisja 10:00 AM
URL:https://new.foodbank.al/en/event/maratona-solidariteti-per-ushqim-18-tetor-2025-2/
LOCATION:Liqeni Artificial i Tiranës\, Parku i Liqenit Artificial\, Tiranë\, 1001\, Albania
CATEGORIES:Bamirësi
ATTACH;FMTTYPE=image/jpeg:https://new.foodbank.al/wp-content/uploads/2025/09/Image-2025-09-30-at-13.24.31.jpeg
ORGANIZER;CN="Food Bank Albania":MAILTO:support@philantrop.com
END:VEVENT
END:VCALENDAR